BEGIN:VCALENDAR
VERSION:2.0
PRODID:-//Le Goupil File, les cocottes tricotent - ECPv6.15.20//NONSGML v1.0//EN
CALSCALE:GREGORIAN
METHOD:PUBLISH
X-ORIGINAL-URL:https://legoupilfile.be
X-WR-CALDESC:Events for Le Goupil File, les cocottes tricotent
REFRESH-INTERVAL;VALUE=DURATION:PT1H
X-Robots-Tag:noindex
X-PUBLISHED-TTL:PT1H
BEGIN:VTIMEZONE
TZID:Europe/Brussels
BEGIN:DAYLIGHT
TZOFFSETFROM:+0100
TZOFFSETTO:+0200
TZNAME:CEST
DTSTART:20240331T010000
END:DAYLIGHT
BEGIN:STANDARD
TZOFFSETFROM:+0200
TZOFFSETTO:+0100
TZNAME:CET
DTSTART:20241027T010000
END:STANDARD
BEGIN:DAYLIGHT
TZOFFSETFROM:+0100
TZOFFSETTO:+0200
TZNAME:CEST
DTSTART:20250330T010000
END:DAYLIGHT
BEGIN:STANDARD
TZOFFSETFROM:+0200
TZOFFSETTO:+0100
TZNAME:CET
DTSTART:20251026T010000
END:STANDARD
BEGIN:DAYLIGHT
TZOFFSETFROM:+0100
TZOFFSETTO:+0200
TZNAME:CEST
DTSTART:20260329T010000
END:DAYLIGHT
BEGIN:STANDARD
TZOFFSETFROM:+0200
TZOFFSETTO:+0100
TZNAME:CET
DTSTART:20261025T010000
END:STANDARD
END:VTIMEZONE
BEGIN:VEVENT
DTSTART;TZID=Europe/Brussels:20250914T090000
DTEND;TZID=Europe/Brussels:20250914T120000
DTSTAMP:20260424T074341
CREATED:20230908T160507Z
LAST-MODIFIED:20240918T115633Z
UID:2729-1757840400-1757851200@legoupilfile.be
SUMMARY:Formation - Initiation au filage au fuseau
DESCRIPTION: 
URL:https://legoupilfile.be/event/initiation-au-filage-au-fuseau/
LOCATION:Le Goupil File\, rue Buissonnet\, 71\, Harchies\, 7321\, Belgium
CATEGORIES:Formations/animations/stages
END:VEVENT
BEGIN:VEVENT
DTSTART;TZID=Europe/Brussels:20250914T140000
DTEND;TZID=Europe/Brussels:20250914T170000
DTSTAMP:20260424T074341
CREATED:20231107T175505Z
LAST-MODIFIED:20240918T114344Z
UID:2917-1757858400-1757869200@legoupilfile.be
SUMMARY:Cours mensuel
DESCRIPTION: 
URL:https://legoupilfile.be/event/cours-mensuel-7/
LOCATION:Le Goupil File\, rue Buissonnet\, 71\, Harchies\, 7321\, Belgium
CATEGORIES:Formations/animations/stages
END:VEVENT
BEGIN:VEVENT
DTSTART;TZID=Europe/Brussels:20250921T100000
DTEND;TZID=Europe/Brussels:20250921T180000
DTSTAMP:20260424T074341
CREATED:20240507T075029Z
LAST-MODIFIED:20250602T114133Z
UID:3252-1758448800-1758477600@legoupilfile.be
SUMMARY:Salon Made in Wool
DESCRIPTION: 
URL:https://legoupilfile.be/event/salon-made-in-wool/
LOCATION:PAM Expo – Parc à Mitrailles\, Court St Etienne\, Belgium
CATEGORIES:Marchés/événements
END:VEVENT
END:VCALENDAR