BEGIN:VCALENDAR
VERSION:2.0
PRODID:-//Le Goupil File, les cocottes tricotent - ECPv6.15.20//NONSGML v1.0//EN
CALSCALE:GREGORIAN
METHOD:PUBLISH
X-WR-CALNAME:Le Goupil File, les cocottes tricotent
X-ORIGINAL-URL:https://legoupilfile.be
X-WR-CALDESC:Events for Le Goupil File, les cocottes tricotent
REFRESH-INTERVAL;VALUE=DURATION:PT1H
X-Robots-Tag:noindex
X-PUBLISHED-TTL:PT1H
BEGIN:VTIMEZONE
TZID:Europe/Brussels
BEGIN:DAYLIGHT
TZOFFSETFROM:+0100
TZOFFSETTO:+0200
TZNAME:CEST
DTSTART:20240331T010000
END:DAYLIGHT
BEGIN:STANDARD
TZOFFSETFROM:+0200
TZOFFSETTO:+0100
TZNAME:CET
DTSTART:20241027T010000
END:STANDARD
BEGIN:DAYLIGHT
TZOFFSETFROM:+0100
TZOFFSETTO:+0200
TZNAME:CEST
DTSTART:20250330T010000
END:DAYLIGHT
BEGIN:STANDARD
TZOFFSETFROM:+0200
TZOFFSETTO:+0100
TZNAME:CET
DTSTART:20251026T010000
END:STANDARD
BEGIN:DAYLIGHT
TZOFFSETFROM:+0100
TZOFFSETTO:+0200
TZNAME:CEST
DTSTART:20260329T010000
END:DAYLIGHT
BEGIN:STANDARD
TZOFFSETFROM:+0200
TZOFFSETTO:+0100
TZNAME:CET
DTSTART:20261025T010000
END:STANDARD
BEGIN:DAYLIGHT
TZOFFSETFROM:+0100
TZOFFSETTO:+0200
TZNAME:CEST
DTSTART:20270328T010000
END:DAYLIGHT
BEGIN:STANDARD
TZOFFSETFROM:+0200
TZOFFSETTO:+0100
TZNAME:CET
DTSTART:20271031T010000
END:STANDARD
END:VTIMEZONE
BEGIN:VEVENT
DTSTART;TZID=Europe/Brussels:20250921T100000
DTEND;TZID=Europe/Brussels:20250921T180000
DTSTAMP:20260423T122453
CREATED:20240507T075029Z
LAST-MODIFIED:20250602T114133Z
UID:3252-1758448800-1758477600@legoupilfile.be
SUMMARY:Salon Made in Wool
DESCRIPTION: 
URL:https://legoupilfile.be/event/salon-made-in-wool/
LOCATION:PAM Expo – Parc à Mitrailles\, Court St Etienne\, Belgium
CATEGORIES:Marchés/événements
END:VEVENT
BEGIN:VEVENT
DTSTART;TZID=Europe/Brussels:20251116T100000
DTEND;TZID=Europe/Brussels:20251116T170000
DTSTAMP:20260423T122453
CREATED:20250906T133240Z
LAST-MODIFIED:20250906T133240Z
UID:3778-1763287200-1763312400@legoupilfile.be
SUMMARY:Journée de l'artisan - Atelier ouvert de 10h à 12 et de 13h à 17h
DESCRIPTION:
URL:https://legoupilfile.be/event/journee-de-lartisan-atelier-ouvert-de-10h-a-12-et-de-13h-a-17h/
LOCATION:Le Goupil File\, rue Buissonnet\, 71\, Harchies\, 7321\, Belgium
CATEGORIES:Marchés/événements
END:VEVENT
BEGIN:VEVENT
DTSTART;TZID=Europe/Brussels:20251206T140000
DTEND;TZID=Europe/Brussels:20251206T180000
DTSTAMP:20260423T122453
CREATED:20251129T084731Z
LAST-MODIFIED:20251129T084731Z
UID:3848-1765029600-1765044000@legoupilfile.be
SUMMARY:Marché de Noël Créations textiles à TAMAT
DESCRIPTION:
URL:https://legoupilfile.be/event/marche-de-noel-creations-textiles-a-tamat/
LOCATION:TAMAT\, Place Reine Astrid\, 9\, Tournai\, 7500\, Belgium
CATEGORIES:Marchés/événements
END:VEVENT
BEGIN:VEVENT
DTSTART;TZID=Europe/Brussels:20251207T140000
DTEND;TZID=Europe/Brussels:20251207T180000
DTSTAMP:20260423T122453
CREATED:20251129T084827Z
LAST-MODIFIED:20251129T084827Z
UID:3850-1765116000-1765130400@legoupilfile.be
SUMMARY:Marché de Noël Créations textiles à TAMAT
DESCRIPTION:
URL:https://legoupilfile.be/event/marche-de-noel-creations-textiles-a-tamat-2/
LOCATION:TAMAT\, Place Reine Astrid\, 9\, Tournai\, 7500\, Belgium
CATEGORIES:Marchés/événements
END:VEVENT
BEGIN:VEVENT
DTSTART;TZID=Europe/Brussels:20251213T120000
DTEND;TZID=Europe/Brussels:20251213T200000
DTSTAMP:20260423T122453
CREATED:20250906T133509Z
LAST-MODIFIED:20250906T133509Z
UID:3780-1765627200-1765656000@legoupilfile.be
SUMMARY:Marché - Noël des légendes
DESCRIPTION:
URL:https://legoupilfile.be/event/marche-noel-des-legendes/
LOCATION:Distillerie de Biercée\, Rue de la Roquette\, 36\, Thuin\, 6532\, Belgium
CATEGORIES:Marchés/événements
END:VEVENT
BEGIN:VEVENT
DTSTART;TZID=Europe/Brussels:20251214T120000
DTEND;TZID=Europe/Brussels:20251214T200000
DTSTAMP:20260423T122453
CREATED:20250906T133615Z
LAST-MODIFIED:20250906T133615Z
UID:3783-1765713600-1765742400@legoupilfile.be
SUMMARY:Marché - Noël des légendes
DESCRIPTION:
URL:https://legoupilfile.be/event/marche-noel-des-legendes-2/
LOCATION:Distillerie de Biercée\, Rue de la Roquette\, 36\, Thuin\, 6532\, Belgium
CATEGORIES:Marchés/événements
END:VEVENT
BEGIN:VEVENT
DTSTART;TZID=Europe/Brussels:20260509T100000
DTEND;TZID=Europe/Brussels:20260509T180000
DTSTAMP:20260423T122453
CREATED:20260326T145510Z
LAST-MODIFIED:20260326T145844Z
UID:3926-1778320800-1778349600@legoupilfile.be
SUMMARY:Marché P'artisans d'art à Nalinnes
DESCRIPTION:
URL:https://legoupilfile.be/event/marche-partisans-dart-a-nalinnes/
LOCATION:Château Monnom\, place du centre\, 14\, Nalinnes\, 6120\, Belgium
CATEGORIES:Marchés/événements
END:VEVENT
BEGIN:VEVENT
DTSTART;TZID=Europe/Brussels:20260510T100000
DTEND;TZID=Europe/Brussels:20260510T180000
DTSTAMP:20260423T122453
CREATED:20260326T145802Z
LAST-MODIFIED:20260326T145802Z
UID:3928-1778407200-1778436000@legoupilfile.be
SUMMARY:Marché P'artisans d'art à Nalinnes
DESCRIPTION:
URL:https://legoupilfile.be/event/marche-partisans-dart-a-nalinnes-2/
LOCATION:Château Monnom\, place du centre\, 14\, Nalinnes\, 6120\, Belgium
CATEGORIES:Marchés/événements
END:VEVENT
END:VCALENDAR