BEGIN:VCALENDAR
VERSION:2.0
PRODID:-//Le Goupil File, les cocottes tricotent - ECPv6.15.20//NONSGML v1.0//EN
CALSCALE:GREGORIAN
METHOD:PUBLISH
X-ORIGINAL-URL:https://legoupilfile.be
X-WR-CALDESC:Events for Le Goupil File, les cocottes tricotent
REFRESH-INTERVAL;VALUE=DURATION:PT1H
X-Robots-Tag:noindex
X-PUBLISHED-TTL:PT1H
BEGIN:VTIMEZONE
TZID:Europe/Brussels
BEGIN:DAYLIGHT
TZOFFSETFROM:+0100
TZOFFSETTO:+0200
TZNAME:CEST
DTSTART:20230326T010000
END:DAYLIGHT
BEGIN:STANDARD
TZOFFSETFROM:+0200
TZOFFSETTO:+0100
TZNAME:CET
DTSTART:20231029T010000
END:STANDARD
BEGIN:DAYLIGHT
TZOFFSETFROM:+0100
TZOFFSETTO:+0200
TZNAME:CEST
DTSTART:20240331T010000
END:DAYLIGHT
BEGIN:STANDARD
TZOFFSETFROM:+0200
TZOFFSETTO:+0100
TZNAME:CET
DTSTART:20241027T010000
END:STANDARD
BEGIN:DAYLIGHT
TZOFFSETFROM:+0100
TZOFFSETTO:+0200
TZNAME:CEST
DTSTART:20250330T010000
END:DAYLIGHT
BEGIN:STANDARD
TZOFFSETFROM:+0200
TZOFFSETTO:+0100
TZNAME:CET
DTSTART:20251026T010000
END:STANDARD
END:VTIMEZONE
BEGIN:VEVENT
DTSTART;TZID=Europe/Brussels:20241115T100000
DTEND;TZID=Europe/Brussels:20241115T190000
DTSTAMP:20260422T090313
CREATED:20240809T084517Z
LAST-MODIFIED:20240809T084517Z
UID:3280-1731664800-1731697200@legoupilfile.be
SUMMARY:Salon international des métiers d'art
DESCRIPTION: 
URL:https://legoupilfile.be/event/salon-international-des-metiers-dart-3/
LOCATION:Stade Bollaert Delelis Lens\, Lens\, France
CATEGORIES:Marchés/événements
END:VEVENT
END:VCALENDAR