BEGIN:VCALENDAR
VERSION:2.0
PRODID:-//Le Goupil File, les cocottes tricotent - ECPv6.15.20//NONSGML v1.0//EN
CALSCALE:GREGORIAN
METHOD:PUBLISH
X-WR-CALNAME:Le Goupil File, les cocottes tricotent
X-ORIGINAL-URL:https://legoupilfile.be
X-WR-CALDESC:Events for Le Goupil File, les cocottes tricotent
REFRESH-INTERVAL;VALUE=DURATION:PT1H
X-Robots-Tag:noindex
X-PUBLISHED-TTL:PT1H
BEGIN:VTIMEZONE
TZID:Europe/Brussels
BEGIN:DAYLIGHT
TZOFFSETFROM:+0100
TZOFFSETTO:+0200
TZNAME:CEST
DTSTART:20240331T010000
END:DAYLIGHT
BEGIN:STANDARD
TZOFFSETFROM:+0200
TZOFFSETTO:+0100
TZNAME:CET
DTSTART:20241027T010000
END:STANDARD
BEGIN:DAYLIGHT
TZOFFSETFROM:+0100
TZOFFSETTO:+0200
TZNAME:CEST
DTSTART:20250330T010000
END:DAYLIGHT
BEGIN:STANDARD
TZOFFSETFROM:+0200
TZOFFSETTO:+0100
TZNAME:CET
DTSTART:20251026T010000
END:STANDARD
BEGIN:DAYLIGHT
TZOFFSETFROM:+0100
TZOFFSETTO:+0200
TZNAME:CEST
DTSTART:20260329T010000
END:DAYLIGHT
BEGIN:STANDARD
TZOFFSETFROM:+0200
TZOFFSETTO:+0100
TZNAME:CET
DTSTART:20261025T010000
END:STANDARD
END:VTIMEZONE
BEGIN:VEVENT
DTSTART;TZID=Europe/Brussels:20250607T140000
DTEND;TZID=Europe/Brussels:20250607T190000
DTSTAMP:20260420T014118
CREATED:20250505T140459Z
LAST-MODIFIED:20250602T113440Z
UID:3621-1749304800-1749322800@legoupilfile.be
SUMMARY:Parcours d'artistes Silly
DESCRIPTION:
URL:https://legoupilfile.be/event/parcours-dartistes-silly/
LOCATION:Grange du Château de Thoricourt\, Silly\, Belgium
CATEGORIES:Marchés/événements
END:VEVENT
BEGIN:VEVENT
DTSTART;TZID=Europe/Brussels:20250608T110000
DTEND;TZID=Europe/Brussels:20250608T180000
DTSTAMP:20260420T014118
CREATED:20250602T113635Z
LAST-MODIFIED:20250602T113835Z
UID:3653-1749380400-1749405600@legoupilfile.be
SUMMARY:Parcours d'Artistes Silly
DESCRIPTION:
URL:https://legoupilfile.be/event/parcours-dartistes-silly-2/
LOCATION:Grange du Château de Thoricourt\, Silly\, Belgium
CATEGORIES:Marchés/événements
END:VEVENT
BEGIN:VEVENT
DTSTART;TZID=Europe/Brussels:20250609T110000
DTEND;TZID=Europe/Brussels:20250609T180000
DTSTAMP:20260420T014118
CREATED:20250602T113729Z
LAST-MODIFIED:20250602T113729Z
UID:3655-1749466800-1749492000@legoupilfile.be
SUMMARY:Parcours d'Artistes Silly
DESCRIPTION:
URL:https://legoupilfile.be/event/parcours-dartistes-silly-3/
LOCATION:Grange du Château de Thoricourt\, Silly\, Belgium
CATEGORIES:Marchés/événements
END:VEVENT
END:VCALENDAR