BEGIN:VCALENDAR
VERSION:2.0
PRODID:-//Le Goupil File, les cocottes tricotent - ECPv6.15.20//NONSGML v1.0//EN
CALSCALE:GREGORIAN
METHOD:PUBLISH
X-ORIGINAL-URL:https://legoupilfile.be
X-WR-CALDESC:Events for Le Goupil File, les cocottes tricotent
REFRESH-INTERVAL;VALUE=DURATION:PT1H
X-Robots-Tag:noindex
X-PUBLISHED-TTL:PT1H
BEGIN:VTIMEZONE
TZID:Europe/Brussels
BEGIN:DAYLIGHT
TZOFFSETFROM:+0100
TZOFFSETTO:+0200
TZNAME:CEST
DTSTART:20240331T010000
END:DAYLIGHT
BEGIN:STANDARD
TZOFFSETFROM:+0200
TZOFFSETTO:+0100
TZNAME:CET
DTSTART:20241027T010000
END:STANDARD
BEGIN:DAYLIGHT
TZOFFSETFROM:+0100
TZOFFSETTO:+0200
TZNAME:CEST
DTSTART:20250330T010000
END:DAYLIGHT
BEGIN:STANDARD
TZOFFSETFROM:+0200
TZOFFSETTO:+0100
TZNAME:CET
DTSTART:20251026T010000
END:STANDARD
BEGIN:DAYLIGHT
TZOFFSETFROM:+0100
TZOFFSETTO:+0200
TZNAME:CEST
DTSTART:20260329T010000
END:DAYLIGHT
BEGIN:STANDARD
TZOFFSETFROM:+0200
TZOFFSETTO:+0100
TZNAME:CET
DTSTART:20261025T010000
END:STANDARD
END:VTIMEZONE
BEGIN:VEVENT
DTSTART;TZID=Europe/Brussels:20250629T100000
DTEND;TZID=Europe/Brussels:20250629T160000
DTSTAMP:20260424T164721
CREATED:20231107T171818Z
LAST-MODIFIED:20240918T114803Z
UID:2896-1751191200-1751212800@legoupilfile.be
SUMMARY:Formation - Journée teinture végétale sur laine (promenade d'identification de plantes tinctoriales et initiation à la teinture)
DESCRIPTION: 
URL:https://legoupilfile.be/event/formation-journee-teinture-vegetale-sur-laine-promenade-didentification-de-plantes-tinctoriales-et-initiation-a-la-teinture/
LOCATION:Le Goupil File\, rue Buissonnet\, 71\, Harchies\, 7321\, Belgium
CATEGORIES:Formations/animations/stages
END:VEVENT
END:VCALENDAR